View In:
ArcGIS JavaScript
ArcGIS Online Map Viewer
ArcGIS Earth
ArcMap
View Footprint In:
ArcGIS Online Map Viewer
Service Description: groundwater/Density_GP_330ft_webmerc_130_int
Name: groundwater/Density_GP_330ft_webmerc_130_int
Description:
Single Fused Map Cache: false
Extent:
XMin: -9850523.21534923
YMin: 5145477.559136244
XMax: -9837653.21534923
YMax: 5158737.559136244
Spatial Reference: 102100
(3857)
Initial Extent:
XMin: -9850523.21534923
YMin: 5145477.559136244
XMax: -9837653.21534923
YMax: 5158737.559136244
Spatial Reference: 102100
(3857)
Full Extent:
XMin: -9850523.21534923
YMin: 5145477.559136244
XMax: -9837653.21534923
YMax: 5158737.559136244
Spatial Reference: 102100
(3857)
Pixel Size X: 130.0
Pixel Size Y: 130.0
Band Count: 1
Pixel Type: S8
RasterFunction Infos: {"rasterFunctionInfos": [{
"name": "None",
"description": "",
"help": ""
}]}
Mensuration Capabilities: Basic
Has Histograms: true
Has Colormap: true
Has Multi Dimensions : false
Rendering Rule:
Min Scale: 0
Max Scale: 0
Copyright Text:
Service Data Type: esriImageServiceDataTypeThematic
Min Values: 0
Max Values: 105
Mean Values: 18.108138581385813
Standard Deviation Values: 18.51100193393979
Object ID Field:
Fields:
None
Default Mosaic Method: Center
Allowed Mosaic Methods:
SortField:
SortValue: null
Mosaic Operator: First
Default Compression Quality: 75
Default Resampling Method: Bilinear
Max Record Count: null
Max Image Height: 4100
Max Image Width: 15000
Max Download Image Count: null
Max Mosaic Image Count: null
Allow Raster Function: true
Allow Copy: null
Allow Analysis: null
Allow Compute TiePoints: false
Supports Statistics: false
Supports Advanced Queries: false
Use StandardizedQueries: true
Raster Type Infos:
Name: Raster Dataset
Description: Supports all ArcGIS Raster Datasets
Help:
Has Raster Attribute Table: true
Edit Fields Info: null
Ownership Based AccessControl For Rasters: null
Child Resources:
Info
Raster Attribute Table
Histograms
Key Properties
Color Map
Legend
Raster Function Infos
Supported Operations:
Export Image
Identify
Measure
Compute Histograms
Compute Statistics Histograms
Get Samples
Compute Class Statistics
Query Boundary
Compute Pixel Location
Compute Angles
Validate
Project