View In:
ArcGIS JavaScript
ArcGIS Online Map Viewer
ArcGIS Earth
ArcMap
View Footprint In:
ArcGIS Online Map Viewer
Service Description: groundwater/Density_SP_330ft_webmerc_130
Name: groundwater/Density_SP_330ft_webmerc_130
Description:
Single Fused Map Cache: false
Extent:
XMin: -9850346.474494332
YMin: 5145487.969582852
XMax: -9837736.474494332
YMax: 5158617.969582852
Spatial Reference: 102100
(3857)
Initial Extent:
XMin: -9850346.474494332
YMin: 5145487.969582852
XMax: -9837736.474494332
YMax: 5158617.969582852
Spatial Reference: 102100
(3857)
Full Extent:
XMin: -9850346.474494332
YMin: 5145487.969582852
XMax: -9837736.474494332
YMax: 5158617.969582852
Spatial Reference: 102100
(3857)
Pixel Size X: 130.0
Pixel Size Y: 130.0
Band Count: 1
Pixel Type: F32
RasterFunction Infos: {"rasterFunctionInfos": [{
"name": "None",
"description": "",
"help": ""
}]}
Mensuration Capabilities: Basic
Has Histograms: true
Has Colormap: false
Has Multi Dimensions : false
Rendering Rule:
Min Scale: 0
Max Scale: 0
Copyright Text:
Service Data Type: esriImageServiceDataTypeGeneric
Min Values: 0
Max Values: 61
Mean Values: 12.187400741132874
Standard Deviation Values: 12.172704955894767
Object ID Field:
Fields:
None
Default Mosaic Method: Center
Allowed Mosaic Methods:
SortField:
SortValue: null
Mosaic Operator: First
Default Compression Quality: 75
Default Resampling Method: Bilinear
Max Record Count: null
Max Image Height: 4100
Max Image Width: 15000
Max Download Image Count: null
Max Mosaic Image Count: null
Allow Raster Function: true
Allow Copy: null
Allow Analysis: null
Allow Compute TiePoints: false
Supports Statistics: false
Supports Advanced Queries: false
Use StandardizedQueries: true
Raster Type Infos:
Name: Raster Dataset
Description: Supports all ArcGIS Raster Datasets
Help:
Has Raster Attribute Table: false
Edit Fields Info: null
Ownership Based AccessControl For Rasters: null
Child Resources:
Info
Histograms
Key Properties
Legend
Raster Function Infos
Supported Operations:
Export Image
Identify
Measure
Compute Histograms
Compute Statistics Histograms
Get Samples
Compute Class Statistics
Query Boundary
Compute Pixel Location
Compute Angles
Validate
Project